BEGIN:VCALENDAR
VERSION:2.0
PRODID:-//Kulturkreis Uelzen e.V. - ECPv6.15.20//NONSGML v1.0//EN
CALSCALE:GREGORIAN
METHOD:PUBLISH
X-WR-CALNAME:Kulturkreis Uelzen e.V.
X-ORIGINAL-URL:https://kulturkreis-uelzen.de
X-WR-CALDESC:Veranstaltungen für Kulturkreis Uelzen e.V.
REFRESH-INTERVAL;VALUE=DURATION:PT1H
X-Robots-Tag:noindex
X-PUBLISHED-TTL:PT1H
BEGIN:VTIMEZONE
TZID:Europe/Berlin
BEGIN:DAYLIGHT
TZOFFSETFROM:+0100
TZOFFSETTO:+0200
TZNAME:CEST
DTSTART:20210328T010000
END:DAYLIGHT
BEGIN:STANDARD
TZOFFSETFROM:+0200
TZOFFSETTO:+0100
TZNAME:CET
DTSTART:20211031T010000
END:STANDARD
BEGIN:DAYLIGHT
TZOFFSETFROM:+0100
TZOFFSETTO:+0200
TZNAME:CEST
DTSTART:20220327T010000
END:DAYLIGHT
BEGIN:STANDARD
TZOFFSETFROM:+0200
TZOFFSETTO:+0100
TZNAME:CET
DTSTART:20221030T010000
END:STANDARD
BEGIN:DAYLIGHT
TZOFFSETFROM:+0100
TZOFFSETTO:+0200
TZNAME:CEST
DTSTART:20230326T010000
END:DAYLIGHT
BEGIN:STANDARD
TZOFFSETFROM:+0200
TZOFFSETTO:+0100
TZNAME:CET
DTSTART:20231029T010000
END:STANDARD
END:VTIMEZONE
BEGIN:VEVENT
DTSTART;TZID=Europe/Berlin:20221008T190000
DTEND;TZID=Europe/Berlin:20221008T210000
DTSTAMP:20260422T111906
CREATED:20220302T204832Z
LAST-MODIFIED:20220701T162844Z
UID:5432-1665255600-1665262800@kulturkreis-uelzen.de
SUMMARY:Göttinger Symphonie Orchester mit Kuhlau-Preisträgerin
DESCRIPTION:Konzert mit Preisträgerin des Internationalen Flötenwettbewerbs Friedrich Kuhlau 2021\nFLÖTE Yesung Kim\nLEITUNG Nicholas Milton \nGIOACHINO ROSSINI „Die diebische Elster“ Ouvertüre \nCARL PHILIPP EMANUEL BACH Flötenkonzert d-Moll \nPJOTR ILJITSCH TSCHAIKOWSKI Sinfonie Nr. 4 f-Moll op. 36 \n  \nEinen unvergesslichen Abend verspricht das Göttinger Symphonieorchester unter der Leitung seines mitreißenden wie charmanten Chefdirigenten Dr. Nicholas Milton. \nDen Auftakt bildet die Ouvertüre zur Oper „La Gazza ladra“ (Die diebische Elster)\, welche Rossini mit gerade einmal Mitte zwanzig vollendete. Yesung Kim\, Preisträgerin des Internationalen Flötenwettbewerbs Friedrich Kuhlau 2021\, spielt im Anschluss das Flötenkonzert d-Moll Wq22 von Carl Philipp Emmanuel Bach\, dem wohl berühmtesten der Bachsöhne\, welcher im protestantischen Deutschland der zweiten Hälfte des 18. Jahrhunderts große Bewunderung und Anerkennung\, insbesondere als Lehrer und Komponist genoss. Seinen würdigen Abschluss findet der Abend in Pjotr Tschaikowskys 4. Symphonie in f-Moll\, op. 36. \nDauer: ca. 2 Stunden inkl. Pause \n  \n       \n(für weitere Infos Logo anklicken) \n  \ngefördert von: \n \n  \nVORVERKAUF\n€ 25\,–\n€ 21\,– für Mitglieder\n€ 10\,– für Schüler/Studenten \nABENDKASSE\nzzgl. € 2\,– (außer Mitglieder) \nSYMPHONISCHER RING-ABO\n€ 85\,- für 4 Veranstaltungen\n€ 70\,- für Mitglieder \nWAHL-ABO\n€ 21\,–\n€ 18\,– für Mitglieder \nTICKET PLUS\nBeim Kauf eines Tickets gibt es auf Wunsch eine Freikarte für eine Begleitperson unter 25 Jahren.\nDie Freikarte ist übertragbar – aber nur für Personen unter 25 Jahren gültig. \n  \nCORONA-HINWEIS: \n\nEs gelten die jeweiligen Regelungen der Niedersächsischen Corona-Verordnung zum Zeitpunkt der Veranstaltung.\ngelten zusätzliche Regelungen für einzelne Spielstätten\nWir veröffentlichen an dieser Stelle kurz vor der Veranstaltung die geltenden Regelungen.\nBei Hinterlegung Ihrer Mailadresse bei der Buchung\, erhalten Sie automatisch eine Benachrichtigung. Ihre Mailadresse wird nicht weitergegeben oder für andere Zwecke genutzt\n\n  \n 
URL:https://kulturkreis-uelzen.de/event/goettinger-symphonie-orchester-mit-kuhlau-preistraegerin/
LOCATION:Theater an der Ilmenau\, Greyerstraße 3\, Uelzen\, 29525\, Deutschland
CATEGORIES:Klassik & Konzerte
ATTACH;FMTTYPE=image/jpeg:https://kulturkreis-uelzen.de/wp-content/uploads/2021/11/Orchesterbild_ohne_Dirigenten_v1_color-scaled.jpg
ORGANIZER;CN="KULTURKREIS UELZEN e.V.":MAILTO:info@kk-uelzen.de
END:VEVENT
END:VCALENDAR